BEGIN:VCALENDAR
VERSION:2.0
PRODID:-//wp-events-plugin.com//7.1.7//EN
TZID:America/Edmonton
X-WR-TIMEZONE:America/Edmonton
BEGIN:VEVENT
UID:81@eoep.ca
DTSTART:20221107T083000Z
DTEND:20221107T163000Z
DTSTAMP:20220929T152646Z
URL:https://eoep.ca/courses/councils-role-in-public-engagement-rma-fall-co
 nvention/
SUMMARY:Council's Role in Public Engagement - RMA Fall Convention
DESCRIPTION:Council's Role in Public Engagement
CATEGORIES:Convention,Regular Course
LOCATION:Edmonton Convention Centre\, 9797 Jasper Avenue\, Edmonton\, Alber
 ta\, T5J 1N9\, Canada
X-APPLE-STRUCTURED-LOCATION;VALUE=URI;X-ADDRESS=9797 Jasper Avenue\, Edmont
 on\, Alberta\, T5J 1N9\, Canada;X-APPLE-RADIUS=100;X-TITLE=Edmonton Conven
 tion Centre:geo:0,0
END:VEVENT
END:VCALENDAR