BEGIN:VCALENDAR
VERSION:2.0
PRODID:-//wp-events-plugin.com//7.1.7//EN
TZID:America/Edmonton
X-WR-TIMEZONE:America/Edmonton
BEGIN:VEVENT
UID:88@eoep.ca
DTSTART:20231004T140000Z
DTEND:20231004T160000Z
DTSTAMP:20230921T212758Z
URL:https://eoep.ca/courses/councils-role-in-public-engagement-zoom/
SUMMARY:Council's Role in Public Engagement - Zoom
DESCRIPTION:Council's Role in Public Engagement - Zoom
CATEGORIES:Convention,Regular Course
END:VEVENT
END:VCALENDAR