BEGIN:VCALENDAR
VERSION:2.0
PRODID:-//wp-events-plugin.com//7.1.7//EN
TZID:America/Edmonton
X-WR-TIMEZONE:America/Edmonton
BEGIN:VEVENT
UID:86@eoep.ca
DTSTART:20230504T150000Z
DTEND:20230504T170000Z
DTSTAMP:20230228T165916Z
URL:https://eoep.ca/courses/councils-role-in-strategic-planning-zoom-2/
SUMMARY:Council's Role in Strategic Planning - ZOOM
DESCRIPTION:Council's Role in Strategic Planning - ZOOM
CATEGORIES:Regular Course,Zoom
END:VEVENT
END:VCALENDAR