BEGIN:VCALENDAR
VERSION:2.0
PRODID:-//wp-events-plugin.com//7.1.7//EN
TZID:America/Edmonton
X-WR-TIMEZONE:America/Edmonton
BEGIN:VEVENT
UID:82@eoep.ca
DTSTART:20230112T140000Z
DTEND:20230112T160000Z
DTSTAMP:20221219T190504Z
URL:https://eoep.ca/courses/munis-101-zoom/
SUMMARY:Munis 101 - ZOOM
DESCRIPTION:Munis 101 - ZOOM
CATEGORIES:Regular Course,Zoom
END:VEVENT
END:VCALENDAR