BEGIN:VCALENDAR
VERSION:2.0
PRODID:-//wp-events-plugin.com//7.1.7//EN
TZID:America/Edmonton
X-WR-TIMEZONE:America/Edmonton
BEGIN:VEVENT
UID:89@eoep.ca
DTSTART;TZID=America/Edmonton:20231011T093000
DTEND;TZID=America/Edmonton:20231011T150000
DTSTAMP:20230927T165626Z
URL:https://eoep.ca/courses/test/
SUMMARY:test
DESCRIPTION:
END:VEVENT
BEGIN:VTIMEZONE
TZID:America/Edmonton
X-LIC-LOCATION:America/Edmonton
BEGIN:DAYLIGHT
DTSTART:20230312T030000
TZOFFSETFROM:-0700
TZOFFSETTO:-0600
TZNAME:MDT
END:DAYLIGHT
END:VTIMEZONE
END:VCALENDAR